BEGIN:VCALENDAR
VERSION:2.0
PRODID:-//Brain Injury Alliance of Kentucky - ECPv6.15.14//NONSGML v1.0//EN
CALSCALE:GREGORIAN
METHOD:PUBLISH
X-ORIGINAL-URL:https://biak.us
X-WR-CALDESC:Events for Brain Injury Alliance of Kentucky
REFRESH-INTERVAL;VALUE=DURATION:PT1H
X-Robots-Tag:noindex
X-PUBLISHED-TTL:PT1H
BEGIN:VTIMEZONE
TZID:America/Kentucky/Louisville
BEGIN:DAYLIGHT
TZOFFSETFROM:-0500
TZOFFSETTO:-0400
TZNAME:EDT
DTSTART:20250309T070000
END:DAYLIGHT
BEGIN:STANDARD
TZOFFSETFROM:-0400
TZOFFSETTO:-0500
TZNAME:EST
DTSTART:20251102T060000
END:STANDARD
BEGIN:DAYLIGHT
TZOFFSETFROM:-0500
TZOFFSETTO:-0400
TZNAME:EDT
DTSTART:20260308T070000
END:DAYLIGHT
BEGIN:STANDARD
TZOFFSETFROM:-0400
TZOFFSETTO:-0500
TZNAME:EST
DTSTART:20261101T060000
END:STANDARD
BEGIN:DAYLIGHT
TZOFFSETFROM:-0500
TZOFFSETTO:-0400
TZNAME:EDT
DTSTART:20270314T070000
END:DAYLIGHT
BEGIN:STANDARD
TZOFFSETFROM:-0400
TZOFFSETTO:-0500
TZNAME:EST
DTSTART:20271107T060000
END:STANDARD
END:VTIMEZONE
BEGIN:VTIMEZONE
TZID:UTC
BEGIN:STANDARD
TZOFFSETFROM:+0000
TZOFFSETTO:+0000
TZNAME:UTC
DTSTART:20250101T000000
END:STANDARD
END:VTIMEZONE
BEGIN:VEVENT
DTSTART;TZID=America/Kentucky/Louisville:20260107T170000
DTEND;TZID=America/Kentucky/Louisville:20261202T180000
DTSTAMP:20260422T180120
CREATED:20251216T154854Z
LAST-MODIFIED:20251216T155035Z
UID:35681-1767805200-1796234400@biak.us
SUMMARY:BIAK ABI Support Network
DESCRIPTION:First Wednesday of each month from 5:00pm – 6:00pm (Virtual Only) \nJanuary 7\, 2026 \nFebruary 4\, 2026 \nMarch 4\, 2026 \nApril 1\, 2026 \nMay 6\, 2026 \nJune 3\, 2026 \nJuly 1\, 2026 \nAugust 5\, 2026 \nSeptember 2\, 2026 \nOctober 7\, 2026 \nNovember 4\, 2026 \nDecember 2\, 2026
URL:https://biak.us/event/biak-abi-support-network/
LOCATION:KY
END:VEVENT
BEGIN:VEVENT
DTSTART;TZID=America/Kentucky/Louisville:20260126T173000
DTEND;TZID=America/Kentucky/Louisville:20261026T193000
DTSTAMP:20260422T180120
CREATED:20250721T151749Z
LAST-MODIFIED:20251216T173013Z
UID:35686-1769448600-1793043000@biak.us
SUMMARY:Brain Tumor Support Group
DESCRIPTION:Fourth Monday of each month from 5:30pm – 7:30pm (Hybrid) \nDinner served from 5:30 – 6:30 \nMeeting held in Joanna’s Room from 6:30 – 7:30 \nJanuary 26\, 2026 \nFebruary 16\, 2026 (3rd Monday w/o dinner) \nMarch 23\, 2026 \nApril 27\, 2026 \nMay 25\, 2026 \nJune 22\, 2026 \nJuly 27\, 2026 \nAugust 24\, 2026 \nSeptember 28\, 2026 \nOctober 26\, 2026
URL:https://biak.us/event/brain-tumor-support-group/
LOCATION:Gilda’s Club\, 2440 Grinstead Dr.\, Louisville\, KY\, 40204\, United States
END:VEVENT
BEGIN:VEVENT
DTSTART;TZID=America/Kentucky/Louisville:20260219T180000
DTEND;TZID=America/Kentucky/Louisville:20260219T193000
DTSTAMP:20260422T180120
CREATED:20260219T173228Z
LAST-MODIFIED:20260219T194124Z
UID:52922-1771524000-1771529400@biak.us
SUMMARY:Community Therapeutic Art Workshop for Brain Injury Survivors
DESCRIPTION:Join us on the 3rd Thursday of each month for a supportive and creative gathering designed specifically for brain injury survivors. This community-based therapeutic art workshop offers a welcoming space to explore creativity at your own pace while building connection\, confidence\, and self-expression. \nThrough guided art activities\, participants are encouraged to engage in meaningful creative experiences that support cognitive stimulation\, emotional processing\, fine motor skills\, and social connection. No prior art experience is needed—just a willingness to explore and create in a relaxed\, judgment-free environment. \nWhether you’re continuing your recovery journey or seeking a sense of community\, this workshop provides a nurturing space to express yourself\, connect with others who understand\, and experience the restorative power of art. \nAll materials are provided. Care partners are welcome.\nWe look forward to creating with you. \nRSVP: natalie.brown@biak.us or call (502) 475-0181 \nCollaboration with the TBI Trust Fund and UofL’s Art Therapy Team
URL:https://biak.us/event/community-therapeutic-art-workshop-for-brain-injury-survivors/
LOCATION:Gilda’s Club\, 2440 Grinstead Dr.\, Louisville\, KY\, 40204\, United States
END:VEVENT
BEGIN:VEVENT
DTSTART;TZID=UTC:20260306T073000
DTEND;TZID=UTC:20260306T163000
DTSTAMP:20260422T180120
CREATED:20231221T174858Z
LAST-MODIFIED:20250721T143338Z
UID:24936-1772782200-1772814600@biak.us
SUMMARY:Brain Injury Summit
DESCRIPTION:For 36 consecutive years\, BIAK has proudly organized the highly anticipated Brain Injury Summit. This comprehensive event features a day filled with enlightening presentations delivered by esteemed experts\, providing invaluable continuing education for professionals dedicated to brain injury recovery. As the Summit’s popularity continues to soar\, we have successfully introduced virtual attendance alongside the traditional in-person format\, accommodating a growing number of eager professionals and companies’ indispensable in supporting brain injury survivors. We hope to see you there! \nDate: March 6\, 2026 \nTime: 7:30am – 4:30pm \nLocation:  \nUniversity of Louisville\, Shelby Campus\n440 N Whittington Parkway\nLouisville\, KY 40222
URL:https://biak.us/event/brain-injury-summit/
LOCATION:University of Louisville\, Shelby Campus\, 440 N Whittington Pkwy\, Louisville\, KY\, 40222\, United States
END:VEVENT
BEGIN:VEVENT
DTSTART;TZID=UTC:20260509T080000
DTEND;TZID=UTC:20260509T170000
DTSTAMP:20260422T180120
CREATED:20231221T175214Z
LAST-MODIFIED:20260122T164604Z
UID:24939-1778313600-1778346000@biak.us
SUMMARY:Run\, Walk\, & Roll
DESCRIPTION:The Brain Injury Alliance of Kentucky’s annual Run\, Walk\, and Roll event is a highly anticipated community gathering held on the Saturday following the Kentucky Derby\, at E.P. Tom Sawyer Park. Participants of all ages and abilities gather at this inspiring event to show their support for individuals living with brain injuries. The event offers two options for participants to choose from: a competitive 5k race and a more inclusive 1-mile walk or roll. Not only does this event encourage physical activity\, but it also fosters a sense of unity and raises awareness about the importance of brain injury prevention and support. Participants\, spectators\, and volunteers come together to celebrate the resilience and determination of those affected by brain injuries\, making this event a true testament to the strength of the human spirit. \nDate: May 9\, 2026 \nTime: 8:00 a.m. \nLocation: E.P. “Tom” Sawyer State Park
URL:https://biak.us/event/run-walk-roll/
LOCATION:KY
END:VEVENT
BEGIN:VEVENT
DTSTART;TZID=UTC:20260820T173000
DTEND;TZID=UTC:20260820T203000
DTSTAMP:20260422T180120
CREATED:20231221T175421Z
LAST-MODIFIED:20260122T163817Z
UID:24943-1787247000-1787257800@biak.us
SUMMARY:Survivor Dinner
DESCRIPTION:Date:\nThursday\, August 20\, 2026 \nLocation:\nWoodhaven Country Club\n7200 Woodhaven Rd\nLouisville\, KY 40291
URL:https://biak.us/event/survivor-celebration/
LOCATION:Woodhaven Country Club\, 7200 Woodhaven Rd\, Louisville\, KY\, 40291\, United States
END:VEVENT
BEGIN:VEVENT
DTSTART;TZID=UTC:20260916T163000
DTEND;TZID=UTC:20260916T183000
DTSTAMP:20260422T180120
CREATED:20231221T175330Z
LAST-MODIFIED:20260122T163531Z
UID:24941-1789576200-1789583400@biak.us
SUMMARY:Annual Meeting
DESCRIPTION:Date:\nWednesday\, September 16\, 2026 from 4:30-6:30 \nLocation:\nPriceWeber\n10701 Shelbyville Rd\nLouisville\, KY 40243
URL:https://biak.us/event/annual-meeting/
LOCATION:KY
END:VEVENT
BEGIN:VEVENT
DTSTART;TZID=UTC:20261113T180000
DTEND;TZID=UTC:20261113T230000
DTSTAMP:20260422T180120
CREATED:20231218T220351Z
LAST-MODIFIED:20260121T214719Z
UID:24701-1794592800-1794610800@biak.us
SUMMARY:BIAK Brain Ball
DESCRIPTION:Join us for the Brain Injury Alliance of Kentucky’s highly anticipated annual Brain Ball fundraiser! This exciting and elegant event aims to bring our community together to raise awareness and funds for individuals affected by brain injuries. Attendees will be treated to a truly memorable evening filled with entertainment\, inspiration\, and networking opportunities. The Brain Ball promises an extraordinary evening of live music\, delicious food\, and an auction featuring an array of fabulous prizes. \nDate:\nNovember 13\, 2026 \nLocation:\nThe Olmsted\n3701 Frankfort Ave\nLouisville\, KY 40207 \n 
URL:https://biak.us/event/biak-brain-ball/
LOCATION:The Olmstead\, Map Address 3701 Frankfort Ave\, Louisville\, Kentucky\, 40206
END:VEVENT
END:VCALENDAR