BEGIN:VCALENDAR
VERSION:2.0
PRODID:-//Brain Injury Alliance of Kentucky - ECPv6.15.14//NONSGML v1.0//EN
CALSCALE:GREGORIAN
METHOD:PUBLISH
X-WR-CALNAME:Brain Injury Alliance of Kentucky
X-ORIGINAL-URL:https://biak.us
X-WR-CALDESC:Events for Brain Injury Alliance of Kentucky
REFRESH-INTERVAL;VALUE=DURATION:PT1H
X-Robots-Tag:noindex
X-PUBLISHED-TTL:PT1H
BEGIN:VTIMEZONE
TZID:America/Kentucky/Louisville
BEGIN:DAYLIGHT
TZOFFSETFROM:-0500
TZOFFSETTO:-0400
TZNAME:EDT
DTSTART:20240310T070000
END:DAYLIGHT
BEGIN:STANDARD
TZOFFSETFROM:-0400
TZOFFSETTO:-0500
TZNAME:EST
DTSTART:20241103T060000
END:STANDARD
BEGIN:DAYLIGHT
TZOFFSETFROM:-0500
TZOFFSETTO:-0400
TZNAME:EDT
DTSTART:20250309T070000
END:DAYLIGHT
BEGIN:STANDARD
TZOFFSETFROM:-0400
TZOFFSETTO:-0500
TZNAME:EST
DTSTART:20251102T060000
END:STANDARD
BEGIN:DAYLIGHT
TZOFFSETFROM:-0500
TZOFFSETTO:-0400
TZNAME:EDT
DTSTART:20260308T070000
END:DAYLIGHT
BEGIN:STANDARD
TZOFFSETFROM:-0400
TZOFFSETTO:-0500
TZNAME:EST
DTSTART:20261101T060000
END:STANDARD
END:VTIMEZONE
BEGIN:VEVENT
DTSTART;TZID=America/Kentucky/Louisville:20250821T173000
DTEND;TZID=America/Kentucky/Louisville:20250821T183000
DTSTAMP:20260422T180025
CREATED:20250721T154717Z
LAST-MODIFIED:20250721T154717Z
UID:35694-1755797400-1755801000@biak.us
SUMMARY:8-9-10 Support Group
DESCRIPTION:Third Wednesday of each month at the BIAK Office from 5:30pm – 6:30pm \nSeptember 17\, 2025 \nOctober 15\, 2025 \nNovember 19\, 2025 \nDecember 17\, 2025 \nFor information\, call Suzanne Wieland at (502) 429-8640 or email her at suzanne.wieland@uoflhealth.org
URL:https://biak.us/event/8-9-10-support-group/
LOCATION:KY
END:VEVENT
BEGIN:VEVENT
DTSTART;TZID=America/Kentucky/Louisville:20250813T173000
DTEND;TZID=America/Kentucky/Louisville:20250813T190000
DTSTAMP:20260422T180025
CREATED:20250721T155348Z
LAST-MODIFIED:20250721T155348Z
UID:35692-1755106200-1755111600@biak.us
SUMMARY:Headliners Support Group
DESCRIPTION:Second Wednesday of each month (Location Varies) \nSeptember 10\, 2025 \nOctober 15\, 2025 \nNovember 12\, 2025 \nDecember 10\, 2025 \nTo RSVP\, call Janice Martin at(502) 767-4489 or email at Janice.newcare@gmail.com \nOr call BIAK at (502) 493-0609 or email at Natalie.brown@biak.us \n 
URL:https://biak.us/event/headliners-support-group/
LOCATION:KY
END:VEVENT
BEGIN:VEVENT
DTSTART;TZID=America/Kentucky/Louisville:20250805T183000
DTEND;TZID=America/Kentucky/Louisville:20250805T203000
DTSTAMP:20260422T180025
CREATED:20250721T140507Z
LAST-MODIFIED:20250721T140507Z
UID:35659-1754418600-1754425800@biak.us
SUMMARY:National Night Out
DESCRIPTION:St. Matthews Community Park
URL:https://biak.us/event/national-night-out/
LOCATION:KY
END:VEVENT
BEGIN:VEVENT
DTSTART;TZID=America/Kentucky/Louisville:20250724T160000
DTEND;TZID=America/Kentucky/Louisville:20250724T190000
DTSTAMP:20260422T180025
CREATED:20250721T141346Z
LAST-MODIFIED:20250721T143000Z
UID:35666-1753372800-1753383600@biak.us
SUMMARY:Survivor Dance & Party
DESCRIPTION:Thursday\, July 24\, 2025 from 4:00-7:00 CDT \nRobert Cherry Civic Center \n2701 Park Ave.\, Paducah\, KY 42001
URL:https://biak.us/event/survivor-dance-party/
LOCATION:Robert Cherry Civic Center\, 2701 Park Ave.\, Paducah\, KY\, 42001\, United States
END:VEVENT
END:VCALENDAR